BEGIN:VCALENDAR
VERSION:2.0
PRODID:-//Plone.org//NONSGML plone.app.event//EN
X-WR-TIMEZONE:US/Eastern
BEGIN:VEVENT
SUMMARY:Harry Potter's Birthday
DTSTART;TZID=US/Eastern:20190731T100000
DTEND;TZID=US/Eastern:20190731T190000
DTSTAMP:20260420T111244Z
UID:6c6ac6d85b514ed9aa310f658a5a5868@saas_stack_varnish:6080
ATTENDEE;CN="All ages";ROLE=REQ-PARTICIPANT:All ages
CONTACT:Christi Mortell\, 8106882282\, northbranchlibrary@northbranchlibra
 ry.net
CREATED:20190605T162546Z
DESCRIPTION:Celebrate Harry Potter's Birthday with us.  We will have make 
 & take crafts set up during the library's open hours
LAST-MODIFIED:20190724T165109Z
LOCATION:NBTL
URL:https://northbranch.ploud.net/news-events/lib-cal/harry-potters-birthd
 ay-1
END:VEVENT
BEGIN:VTIMEZONE
TZID:US/Eastern
X-LIC-LOCATION:US/Eastern
BEGIN:DAYLIGHT
DTSTART:20190310T030000
TZNAME:EDT
TZOFFSETFROM:-0500
TZOFFSETTO:-0400
END:DAYLIGHT
END:VTIMEZONE
END:VCALENDAR
