BEGIN:VCALENDAR
VERSION:2.0
PRODID:-//Plone.org//NONSGML plone.app.event//EN
X-WR-TIMEZONE:US/Eastern
BEGIN:VEVENT
SUMMARY:Harry Potter's Birthday
DTSTART;TZID=US/Eastern:20180731T140000
DTEND;TZID=US/Eastern:20180731T170000
DTSTAMP:20260420T155508Z
UID:af75532b62fc4734ba490464f0c57169@saas_stack_varnish:6080
ATTENDEE;CN="All ages - family event";ROLE=REQ-PARTICIPANT:All ages - fami
 ly event
CONTACT:Christi Mortell\, 8106882282\, northbranchlibrary@northbranchlibra
 ry.net
CREATED:20180605T192744Z
DESCRIPTION:Help us celebrate Harry Potter's birthday with potions\, wand 
 making\, spells\, Bertie Botts Beans and other fun Harry Potter themed sta
 tions.
LAST-MODIFIED:20180605T192749Z
LOCATION:NBTL
URL:https://northbranch.ploud.net/news-events/lib-cal/harry-potters-birthd
 ay
END:VEVENT
BEGIN:VTIMEZONE
TZID:US/Eastern
X-LIC-LOCATION:US/Eastern
BEGIN:DAYLIGHT
DTSTART:20180311T030000
TZNAME:EDT
TZOFFSETFROM:-0500
TZOFFSETTO:-0400
END:DAYLIGHT
END:VTIMEZONE
END:VCALENDAR
