BEGIN:VCALENDAR
VERSION:2.0
PRODID:-//Plone.org//NONSGML plone.app.event//EN
X-WR-TIMEZONE:US/Eastern
BEGIN:VEVENT
SUMMARY:Hawk Hill Raptors
DTSTART;TZID=US/Eastern:20170713T110000
DTEND;TZID=US/Eastern:20170713T120000
DTSTAMP:20260421T021019Z
UID:f6b60e78420340d998c75c504d08cfd7@saas_stack_varnish:6080
CREATED:20170515T193949Z
DESCRIPTION:Live birds of Prey program.  A wildlife educator will present 
 an educational program about and with these magnificent creatures.
LAST-MODIFIED:20170515T193953Z
URL:https://northbranch.ploud.net/news-events/lib-cal/hawk-hill-raptors
END:VEVENT
BEGIN:VTIMEZONE
TZID:US/Eastern
X-LIC-LOCATION:US/Eastern
BEGIN:DAYLIGHT
DTSTART:20170312T030000
TZNAME:EDT
TZOFFSETFROM:-0500
TZOFFSETTO:-0400
END:DAYLIGHT
END:VTIMEZONE
END:VCALENDAR
