BEGIN:VCALENDAR
VERSION:2.0
PRODID:-//Plone.org//NONSGML plone.app.event//EN
X-WR-TIMEZONE:US/Eastern
BEGIN:VEVENT
SUMMARY:Henna Class
DTSTART;TZID=US/Eastern:20170610T110000
DTEND;TZID=US/Eastern:20170610T120000
DTSTAMP:20260422T120327Z
UID:34d6998e1d1a49ef95a2f92168e16d47@saas_stack_varnish:6080
CONTACT:Kelli Lovasz\, 810-688-2282\, northbranchlibrary@northbranchlibrar
 y.net
CREATED:20170515T185152Z
DESCRIPTION:Learn about the beautiful Indian art of Henna.  You'll hear ab
 out the traditions and designs themselves.  Each participant will have the
  opportunity to have a Henna design on their hand.
LAST-MODIFIED:20170515T185211Z
LOCATION:NBTL Meeting Room
URL:https://northbranch.ploud.net/news-events/lib-cal/henna-class
END:VEVENT
BEGIN:VTIMEZONE
TZID:US/Eastern
X-LIC-LOCATION:US/Eastern
BEGIN:DAYLIGHT
DTSTART:20170312T030000
TZNAME:EDT
TZOFFSETFROM:-0500
TZOFFSETTO:-0400
END:DAYLIGHT
END:VTIMEZONE
END:VCALENDAR
