BEGIN:VCALENDAR
VERSION:2.0
PRODID:-//Plone.org//NONSGML plone.app.event//EN
X-WR-TIMEZONE:US/Eastern
BEGIN:VEVENT
SUMMARY:Home Depot Wood Class
DTSTART;TZID=US/Eastern:20160408T110000
DTEND;TZID=US/Eastern:20160408T130000
DTSTAMP:20260420T184843Z
UID:90851f495a7a4e73833601ed5f34bd90@saas_stack_varnish:6080
ATTENDEE;CN="Kids and teens";ROLE=REQ-PARTICIPANT:Kids and teens
CONTACT:Christi Mortell\, 810-688-2282\, northbranchlibrary@northbranchlib
 rary.net
CREATED:20160324T173357Z
DESCRIPTION:Home Depot will be teaching a wood craft class.  They will hav
 e various projects for all skill levels.  Preregistration is required.  Ca
 ll the Circulation Desk for details.
LAST-MODIFIED:20160324T173401Z
LOCATION:NBTL Meeting Room
URL:https://northbranch.ploud.net/news-events/lib-cal/home-depot-wood-clas
 s
END:VEVENT
BEGIN:VTIMEZONE
TZID:US/Eastern
X-LIC-LOCATION:US/Eastern
BEGIN:DAYLIGHT
DTSTART:20160313T030000
TZNAME:EDT
TZOFFSETFROM:-0500
TZOFFSETTO:-0400
END:DAYLIGHT
END:VTIMEZONE
END:VCALENDAR
