BEGIN:VCALENDAR
VERSION:2.0
PRODID:-//Plone.org//NONSGML plone.app.event//EN
X-WR-TIMEZONE:US/Eastern
BEGIN:VEVENT
SUMMARY:I Spy Event
DTSTART;TZID=US/Eastern:20220318T100000
DTEND;TZID=US/Eastern:20220326T170000
DTSTAMP:20260420T041505Z
UID:465ff85792294eefbebe21e4ff7e9d42@saas_stack_varnish:6080
CONTACT:Kelli Lovasz\, 810-688-2282\, northbranchlibary@northbranchlibrary
 .net
CREATED:20220318T160317Z
DESCRIPTION:Look at our I Spy case and see if you can find 15 hidden items
 .  Turn your sheet into the desk and receive a prize.
LAST-MODIFIED:20220318T160325Z
LOCATION:NBTL
URL:https://northbranch.ploud.net/news-events/lib-cal/i-spy-event
END:VEVENT
BEGIN:VTIMEZONE
TZID:US/Eastern
X-LIC-LOCATION:US/Eastern
BEGIN:DAYLIGHT
DTSTART:20220313T030000
TZNAME:EDT
TZOFFSETFROM:-0500
TZOFFSETTO:-0400
END:DAYLIGHT
END:VTIMEZONE
END:VCALENDAR
