BEGIN:VCALENDAR
VERSION:2.0
PRODID:-//Plone.org//NONSGML plone.app.event//EN
X-WR-TIMEZONE:US/Eastern
BEGIN:VEVENT
SUMMARY:ICYMI
DTSTART;TZID=US/Eastern:20230401T100000
DTEND;TZID=US/Eastern:20230401T170000
DTSTAMP:20260419T232208Z
UID:cdb161f9ce654e7b8457db1e8f587add@saas_stack_varnish:6080
CREATED:20230324T130040Z
DESCRIPTION:In Case You Missed It:  stop in and catch up on any of the Spr
 ing Break Boredom Busters You May Have Missed
LAST-MODIFIED:20230324T130047Z
URL:https://northbranch.ploud.net/news-events/lib-cal/icymi
END:VEVENT
BEGIN:VTIMEZONE
TZID:US/Eastern
X-LIC-LOCATION:US/Eastern
BEGIN:DAYLIGHT
DTSTART:20230312T030000
TZNAME:EDT
TZOFFSETFROM:-0500
TZOFFSETTO:-0400
END:DAYLIGHT
END:VTIMEZONE
END:VCALENDAR
