BEGIN:VCALENDAR
VERSION:2.0
PRODID:-//Plone.org//NONSGML plone.app.event//EN
X-WR-TIMEZONE:US/Eastern
BEGIN:VEVENT
SUMMARY:Jam Making Class
DTSTART;TZID=US/Eastern:20230629T173000
DTEND;TZID=US/Eastern:20230629T183000
DTSTAMP:20260419T232132Z
UID:9e055a9826484e44943b5eedc9470828@saas_stack_varnish:6080
CONTACT:Kelli Lovasz\, 810-688-2282\, northbranchlibrary@northbranchlibrar
 y.net
CREATED:20230616T195423Z
DESCRIPTION:Berry season is upon us.  Learn to preserve your berries and m
 ake jam.  All types of Jam making will be discussed with Chris Venema of t
 he MSU extension.
LAST-MODIFIED:20230616T195436Z
LOCATION:NBTL
URL:https://northbranch.ploud.net/news-events/lib-cal/jam-making-class
END:VEVENT
BEGIN:VTIMEZONE
TZID:US/Eastern
X-LIC-LOCATION:US/Eastern
BEGIN:DAYLIGHT
DTSTART:20230312T030000
TZNAME:EDT
TZOFFSETFROM:-0500
TZOFFSETTO:-0400
END:DAYLIGHT
END:VTIMEZONE
END:VCALENDAR
