BEGIN:VCALENDAR
VERSION:2.0
PRODID:-//Plone.org//NONSGML plone.app.event//EN
X-WR-TIMEZONE:US/Eastern
BEGIN:VEVENT
SUMMARY:Job Fair - Kelly Services
DTSTART;TZID=US/Eastern:20160415T100000
DTEND;TZID=US/Eastern:20160415T120000
DTSTAMP:20260420T202207Z
UID:b71738c83cc248549eb55f91c99e4156@saas_stack_varnish:6080
CONTACT:Ashley Schram\, 810-667-3077
CREATED:20160324T173944Z
DESCRIPTION:Kelly Services along with Pinnacle Foods is hosting a Job Fair
 .  All interested job seekers are encouraged to attend.
LAST-MODIFIED:20160324T173948Z
LOCATION:NBTL Meeting Room
URL:https://northbranch.ploud.net/news-events/lib-cal/job-fair-kelly-servi
 ces
END:VEVENT
BEGIN:VTIMEZONE
TZID:US/Eastern
X-LIC-LOCATION:US/Eastern
BEGIN:DAYLIGHT
DTSTART:20160313T030000
TZNAME:EDT
TZOFFSETFROM:-0500
TZOFFSETTO:-0400
END:DAYLIGHT
END:VTIMEZONE
END:VCALENDAR
