BEGIN:VCALENDAR
VERSION:2.0
PRODID:-//Plone.org//NONSGML plone.app.event//EN
X-WR-TIMEZONE:US/Eastern
BEGIN:VEVENT
SUMMARY:Kid's Christmas Craft
DTSTART;TZID=US/Eastern:20241221T100000
DTEND;TZID=US/Eastern:20241221T140000
DTSTAMP:20260421T115312Z
UID:de13746094384bd6b0e7425369ec9163@saas_stack_varnish:6080
ATTENDEE;CN="For children and their guardians";ROLE=REQ-PARTICIPANT:For ch
 ildren and their guardians
CONTACT:810-688-2282\, northbranchlibrary@northbranchlibrary.net
CREATED:20241219T190511Z
DESCRIPTION:Join us to make and take a Christmas themed craft!
LAST-MODIFIED:20241219T190539Z
LOCATION:North Branch Township Library
URL:https://northbranch.ploud.net/news-events/lib-cal/kids-christmas-craft
END:VEVENT
BEGIN:VTIMEZONE
TZID:US/Eastern
X-LIC-LOCATION:US/Eastern
BEGIN:STANDARD
DTSTART:20241103T010000
TZNAME:EST
TZOFFSETFROM:-0400
TZOFFSETTO:-0500
END:STANDARD
END:VTIMEZONE
END:VCALENDAR
