BEGIN:VCALENDAR
VERSION:2.0
PRODID:-//Plone.org//NONSGML plone.app.event//EN
X-WR-TIMEZONE:US/Eastern
BEGIN:VEVENT
SUMMARY:Kid's Craft Day
DTSTART;TZID=US/Eastern:20230331T100000
DTEND;TZID=US/Eastern:20230331T170000
DTSTAMP:20260419T232417Z
UID:ae0898199efa4938a0cb3adc9bfb5b82@saas_stack_varnish:6080
CREATED:20230323T183638Z
LAST-MODIFIED:20230323T183646Z
URL:https://northbranch.ploud.net/news-events/lib-cal/kids-craft-day
END:VEVENT
BEGIN:VTIMEZONE
TZID:US/Eastern
X-LIC-LOCATION:US/Eastern
BEGIN:DAYLIGHT
DTSTART:20230312T030000
TZNAME:EDT
TZOFFSETFROM:-0500
TZOFFSETTO:-0400
END:DAYLIGHT
END:VTIMEZONE
END:VCALENDAR
