BEGIN:VCALENDAR
VERSION:2.0
PRODID:-//Plone.org//NONSGML plone.app.event//EN
X-WR-TIMEZONE:US/Eastern
BEGIN:VEVENT
SUMMARY:Kids Make & Take
DTSTART;TZID=US/Eastern:20221022T100000
DTEND;TZID=US/Eastern:20221022T133000
DTSTAMP:20260420T005843Z
UID:93ff8c5fc6ef4e1a9a94a386c0310b4e@saas_stack_varnish:6080
ATTENDEE;CN="Craft suitable for preschoolers and grade school.";ROLE=REQ-P
 ARTICIPANT:Craft suitable for preschoolers and grade school.
CONTACT:8106882282
CREATED:20220930T160736Z
DESCRIPTION:Stop into the library and make an apple craft to take home.
LAST-MODIFIED:20220930T160741Z
LOCATION:NBTL
URL:https://northbranch.ploud.net/news-events/lib-cal/kids-make-take
END:VEVENT
BEGIN:VTIMEZONE
TZID:US/Eastern
X-LIC-LOCATION:US/Eastern
BEGIN:DAYLIGHT
DTSTART:20220313T030000
TZNAME:EDT
TZOFFSETFROM:-0500
TZOFFSETTO:-0400
END:DAYLIGHT
END:VTIMEZONE
END:VCALENDAR
