BEGIN:VCALENDAR
VERSION:2.0
PRODID:-//Plone.org//NONSGML plone.app.event//EN
X-WR-TIMEZONE:US/Eastern
BEGIN:VEVENT
SUMMARY:Koana Ice
DTSTART;TZID=US/Eastern:20210727T120000
DTEND;TZID=US/Eastern:20210727T130000
DTSTAMP:20260420T054827Z
UID:56ddcd3c23f248d2b84314a1ee09cc51@saas_stack_varnish:6080
ATTENDEE;CN="Icees will be purchased for children.  Adults are able to rec
 eive Icees at a cost.";ROLE=REQ-PARTICIPANT:Icees will be purchased for ch
 ildren.  Adults are able to receive Icees at a cost.
CREATED:20210616T162435Z
DESCRIPTION:Help us celebrate the end of Summer Reading by having a Koana 
 Ice treat.
LAST-MODIFIED:20210616T163757Z
URL:https://northbranch.ploud.net/news-events/lib-cal/koana-ice
END:VEVENT
BEGIN:VTIMEZONE
TZID:US/Eastern
X-LIC-LOCATION:US/Eastern
BEGIN:DAYLIGHT
DTSTART:20210314T030000
TZNAME:EDT
TZOFFSETFROM:-0500
TZOFFSETTO:-0400
END:DAYLIGHT
END:VTIMEZONE
END:VCALENDAR
