BEGIN:VCALENDAR
VERSION:2.0
PRODID:-//Plone.org//NONSGML plone.app.event//EN
X-WR-TIMEZONE:US/Eastern
BEGIN:VEVENT
SUMMARY:Kona Ice at the library
DTSTART;TZID=US/Eastern:20230725T130000
DTEND;TZID=US/Eastern:20230725T150000
DTSTAMP:20260419T220442Z
UID:88df885262ac48abb03152594a04ae97@saas_stack_varnish:6080
CREATED:20230616T202225Z
DESCRIPTION:Our favorite day of the year!  Enjoy a Kona Ice on us.  All at
 tendees will receive a free Ice
LAST-MODIFIED:20230616T202229Z
URL:https://northbranch.ploud.net/news-events/lib-cal/kona-ice-at-the-libr
 ary
END:VEVENT
BEGIN:VTIMEZONE
TZID:US/Eastern
X-LIC-LOCATION:US/Eastern
BEGIN:DAYLIGHT
DTSTART:20230312T030000
TZNAME:EDT
TZOFFSETFROM:-0500
TZOFFSETTO:-0400
END:DAYLIGHT
END:VTIMEZONE
END:VCALENDAR
