BEGIN:VCALENDAR
VERSION:2.0
PRODID:-//Plone.org//NONSGML plone.app.event//EN
X-WR-TIMEZONE:US/Eastern
BEGIN:VEVENT
SUMMARY:Lapeer County Animal Control Pet License Service Day
DTSTART;TZID=US/Eastern:20160521T100000
DTEND;TZID=US/Eastern:20160521T140000
DTSTAMP:20260420T225856Z
UID:04e2942656d14d0bbf5ced8fb62a8e1b@saas_stack_varnish:6080
CONTACT:Christi Mortell\, 810-688-2282\, northbranchlibrary@northbranchlib
 rary.net
CREATED:20160415T182039Z
DESCRIPTION:The Lapeer County Animal Control will be hosting a service boo
 th in order for residents to have their pet licensed without driving into 
 Lapeer.
LAST-MODIFIED:20160415T182042Z
LOCATION:NBTL
URL:https://northbranch.ploud.net/news-events/lib-cal/lapeer-county-animal
 -control-pet-license-service-day
END:VEVENT
BEGIN:VTIMEZONE
TZID:US/Eastern
X-LIC-LOCATION:US/Eastern
BEGIN:DAYLIGHT
DTSTART:20160313T030000
TZNAME:EDT
TZOFFSETFROM:-0500
TZOFFSETTO:-0400
END:DAYLIGHT
END:VTIMEZONE
END:VCALENDAR
