BEGIN:VCALENDAR
VERSION:2.0
PRODID:-//Plone.org//NONSGML plone.app.event//EN
X-WR-TIMEZONE:US/Eastern
BEGIN:VEVENT
SUMMARY:Library board meeting
DTSTART;TZID=US/Eastern:20250218T170000
DTEND;TZID=US/Eastern:20250218T180000
DTSTAMP:20260419T201703Z
UID:1e398218a048485da37a6d45afab4061@saas_stack_varnish:6080
ATTENDEE;CN="Open to anyone who wishes to attend";ROLE=REQ-PARTICIPANT:Ope
 n to anyone who wishes to attend
CONTACT:810-688-2282\, northbranchlibrary@northbranchlibrary.net
CREATED:20241219T212820Z
LAST-MODIFIED:20241219T214711Z
LOCATION:North Branch Township Library
URL:https://northbranch.ploud.net/news-events/lib-cal/library-board-meetin
 g-1
END:VEVENT
BEGIN:VTIMEZONE
TZID:US/Eastern
X-LIC-LOCATION:US/Eastern
BEGIN:STANDARD
DTSTART:20241103T010000
TZNAME:EST
TZOFFSETFROM:-0400
TZOFFSETTO:-0500
END:STANDARD
END:VTIMEZONE
END:VCALENDAR
