BEGIN:VCALENDAR
VERSION:2.0
PRODID:-//Plone.org//NONSGML plone.app.event//EN
X-WR-TIMEZONE:US/Eastern
BEGIN:VEVENT
SUMMARY:Library board meeting
DTSTART;TZID=US/Eastern:20250121T170000
DTEND;TZID=US/Eastern:20250121T180000
DTSTAMP:20260419T201352Z
UID:1b053a745a424d6580d999d880c15ca3@saas_stack_varnish:6080
ATTENDEE;CN="Open to all who wish to attend";ROLE=REQ-PARTICIPANT:Open to 
 all who wish to attend
CONTACT:810-688-2282\, northbranchlibrary@northbranchlibrary.net
CREATED:20241219T212330Z
LAST-MODIFIED:20241219T214639Z
LOCATION:North Branch Township Library
URL:https://northbranch.ploud.net/news-events/lib-cal/library-board-meetin
 g
END:VEVENT
BEGIN:VTIMEZONE
TZID:US/Eastern
X-LIC-LOCATION:US/Eastern
BEGIN:STANDARD
DTSTART:20241103T010000
TZNAME:EST
TZOFFSETFROM:-0400
TZOFFSETTO:-0500
END:STANDARD
END:VTIMEZONE
END:VCALENDAR
