BEGIN:VCALENDAR
VERSION:2.0
PRODID:-//Plone.org//NONSGML plone.app.event//EN
X-WR-TIMEZONE:US/Eastern
BEGIN:VEVENT
SUMMARY:Library Closed
DTSTART;VALUE=DATE:20161231
DTEND;VALUE=DATE:20170101
DTSTAMP:20260420T221931Z
UID:f931af5aa1b54c2daecf6be917dab7d6@saas_stack_varnish:6080
CREATED:20161116T193633Z
DESCRIPTION:The Library will be closed for the Holiday.
LAST-MODIFIED:20161116T193638Z
LOCATION:NBTL
URL:https://northbranch.ploud.net/news-events/lib-cal/library-closed-1
END:VEVENT
END:VCALENDAR
