BEGIN:VCALENDAR
VERSION:2.0
PRODID:-//Plone.org//NONSGML plone.app.event//EN
X-WR-TIMEZONE:US/Eastern
BEGIN:VEVENT
SUMMARY:Library Closed
DTSTART;VALUE=DATE:20170101
DTEND;VALUE=DATE:20170102
DTSTAMP:20260422T120423Z
UID:aed0d0521a384f32a79a578a07a6f9fe@saas_stack_varnish:6080
CREATED:20161116T193714Z
DESCRIPTION:The Library will be closed for the Holiday
LAST-MODIFIED:20161116T193718Z
URL:https://northbranch.ploud.net/news-events/lib-cal/library-closed-2
END:VEVENT
END:VCALENDAR
