BEGIN:VCALENDAR
VERSION:2.0
PRODID:-//Plone.org//NONSGML plone.app.event//EN
X-WR-TIMEZONE:US/Eastern
BEGIN:VEVENT
SUMMARY:Library closed
DTSTART;TZID=US/Eastern:20241224T100000
DTEND;TZID=US/Eastern:20241226T190000
DTSTAMP:20260419T195033Z
UID:e8841756160647fa9d068c617613a8e6@saas_stack_varnish:6080
CONTACT:810-688-2282\, northbranchlibrary@northbranchlibrary.net
CREATED:20241219T193153Z
DESCRIPTION:The library will be closed December 24-26 for the holidays. Ha
 ve a wonderful time!
LAST-MODIFIED:20241219T193210Z
URL:https://northbranch.ploud.net/news-events/lib-cal/library-closed-3
END:VEVENT
BEGIN:VTIMEZONE
TZID:US/Eastern
X-LIC-LOCATION:US/Eastern
BEGIN:STANDARD
DTSTART:20241103T010000
TZNAME:EST
TZOFFSETFROM:-0400
TZOFFSETTO:-0500
END:STANDARD
END:VTIMEZONE
END:VCALENDAR
