BEGIN:VCALENDAR
VERSION:2.0
PRODID:-//Plone.org//NONSGML plone.app.event//EN
X-WR-TIMEZONE:US/Eastern
BEGIN:VEVENT
SUMMARY:Library closed
DTSTART;TZID=US/Eastern:20241231T100000
DTEND;TZID=US/Eastern:20250101T190000
DTSTAMP:20260419T195123Z
UID:6dd5cb3f48dc455e81198c08aaaab9ee@saas_stack_varnish:6080
CONTACT:810-688-2282\, northbranchlibrary@northbranchlibrary.net
CREATED:20241219T200739Z
DESCRIPTION:Library closed December 31- Jan 1 for New Year's- have a wonde
 rful time!
LAST-MODIFIED:20241219T200900Z
URL:https://northbranch.ploud.net/news-events/lib-cal/library-closed-4
END:VEVENT
BEGIN:VTIMEZONE
TZID:US/Eastern
X-LIC-LOCATION:US/Eastern
BEGIN:STANDARD
DTSTART:20241103T010000
TZNAME:EST
TZOFFSETFROM:-0400
TZOFFSETTO:-0500
END:STANDARD
END:VTIMEZONE
END:VCALENDAR
