BEGIN:VCALENDAR
VERSION:2.0
PRODID:-//Plone.org//NONSGML plone.app.event//EN
X-WR-TIMEZONE:US/Eastern
BEGIN:VEVENT
SUMMARY:Library closed
DTSTART;TZID=US/Eastern:20241225T160000
DTEND;TZID=US/Eastern:20241225T170000
DTSTAMP:20260419T195123Z
UID:68f8174356964eaf981c7c00bcdce3ce@saas_stack_varnish:6080
CREATED:20241219T214232Z
DESCRIPTION:The library will be closed December 24-26 for the holidays. Ha
 ve a wonderful time!
LAST-MODIFIED:20241219T214237Z
URL:https://northbranch.ploud.net/news-events/lib-cal/library-closed-5
END:VEVENT
BEGIN:VTIMEZONE
TZID:US/Eastern
X-LIC-LOCATION:US/Eastern
BEGIN:STANDARD
DTSTART:20241103T010000
TZNAME:EST
TZOFFSETFROM:-0400
TZOFFSETTO:-0500
END:STANDARD
END:VTIMEZONE
END:VCALENDAR
