BEGIN:VCALENDAR
VERSION:2.0
PRODID:-//Plone.org//NONSGML plone.app.event//EN
X-WR-TIMEZONE:US/Eastern
BEGIN:VEVENT
SUMMARY:Library closed
DTSTART;TZID=US/Eastern:20250101T160000
DTEND;TZID=US/Eastern:20250101T170000
DTSTAMP:20260419T203814Z
UID:b810891efea44d1e8059dcc9c3205684@saas_stack_varnish:6080
CREATED:20241219T214506Z
LAST-MODIFIED:20241219T214511Z
URL:https://northbranch.ploud.net/news-events/lib-cal/library-closed-7
END:VEVENT
BEGIN:VTIMEZONE
TZID:US/Eastern
X-LIC-LOCATION:US/Eastern
BEGIN:STANDARD
DTSTART:20241103T010000
TZNAME:EST
TZOFFSETFROM:-0400
TZOFFSETTO:-0500
END:STANDARD
END:VTIMEZONE
END:VCALENDAR
