BEGIN:VCALENDAR
VERSION:2.0
PRODID:-//Plone.org//NONSGML plone.app.event//EN
X-WR-TIMEZONE:US/Eastern
BEGIN:VEVENT
SUMMARY:LIBRARY CLOSED
DTSTART;VALUE=DATE:20251127
DTEND;VALUE=DATE:20251129
DTSTAMP:20260419T223315Z
UID:054331b910324db8a073b37c520c7b46@saas_stack_varnish:6080
CONTACT:810-688-2282
CREATED:20251125T172517Z
DESCRIPTION:Closed for Thanksgiving holiday
LAST-MODIFIED:20251125T172524Z
LOCATION:North Branch Township Library
URL:https://northbranch.ploud.net/news-events/lib-cal/library-closed-8
END:VEVENT
END:VCALENDAR
