BEGIN:VCALENDAR
VERSION:2.0
PRODID:-//Plone.org//NONSGML plone.app.event//EN
X-WR-TIMEZONE:US/Eastern
BEGIN:VEVENT
SUMMARY:Library Closed
DTSTART;VALUE=DATE:20161226
DTEND;VALUE=DATE:20161227
DTSTAMP:20260420T222437Z
UID:0b105d5cf20e40c4a4ae9578b245ec73@saas_stack_varnish:6080
CREATED:20161116T193544Z
DESCRIPTION:The Library will be closed for the Christmas Holiday.
LAST-MODIFIED:20161116T193549Z
LOCATION:NBTL
URL:https://northbranch.ploud.net/news-events/lib-cal/library-closed
END:VEVENT
END:VCALENDAR
