BEGIN:VCALENDAR
VERSION:2.0
PRODID:-//Plone.org//NONSGML plone.app.event//EN
X-WR-TIMEZONE:US/Eastern
BEGIN:VEVENT
SUMMARY:Library Closing at 1:00pm
DTSTART;TZID=US/Eastern:20120406T130000
DTEND;TZID=US/Eastern:20120406T173000
DTSTAMP:20260420T032049Z
UID:2f7cca0f9cc16f09370c63e9b781a9ee@saas_stack_varnish:6080
CREATED:20120320T184407Z
DESCRIPTION:The library will close today at 1:00pm
LAST-MODIFIED:20120320T184433Z
LOCATION:NBTL
URL:https://northbranch.ploud.net/news-events/lib-cal/library-closing-at-1
 -00pm-1.ics
END:VEVENT
BEGIN:VTIMEZONE
TZID:US/Eastern
X-LIC-LOCATION:US/Eastern
BEGIN:DAYLIGHT
DTSTART:20120311T030000
TZNAME:EDT
TZOFFSETFROM:-0500
TZOFFSETTO:-0400
END:DAYLIGHT
END:VTIMEZONE
END:VCALENDAR
