BEGIN:VCALENDAR
VERSION:2.0
PRODID:-//Plone.org//NONSGML plone.app.event//EN
X-WR-TIMEZONE:US/Eastern
BEGIN:VEVENT
SUMMARY:Library closing at 1:00pm
DTSTART;TZID=US/Eastern:20160325T130000
DTEND;TZID=US/Eastern:20160325T170000
DTSTAMP:20260420T184140Z
UID:aec404d6d2054f53811765ff661b60c0@saas_stack_varnish:6080
CREATED:20160113T202830Z
DESCRIPTION:The library will close at 1:00pm today.
LAST-MODIFIED:20160113T202834Z
URL:https://northbranch.ploud.net/news-events/lib-cal/library-closing-at-1
 -00pm
END:VEVENT
BEGIN:VTIMEZONE
TZID:US/Eastern
X-LIC-LOCATION:US/Eastern
BEGIN:DAYLIGHT
DTSTART:20160313T030000
TZNAME:EDT
TZOFFSETFROM:-0500
TZOFFSETTO:-0400
END:DAYLIGHT
END:VTIMEZONE
END:VCALENDAR
