BEGIN:VCALENDAR
VERSION:2.0
PRODID:-//Plone.org//NONSGML plone.app.event//EN
X-WR-TIMEZONE:US/Eastern
BEGIN:VEVENT
SUMMARY:"Loud in the Library" with music
DTSTART;TZID=US/Eastern:20180629T130000
DTEND;TZID=US/Eastern:20180629T150000
DTSTAMP:20260422T161352Z
UID:c108765d07b046ca98a1f608595fc92b@saas_stack_varnish:6080
CREATED:20180605T191709Z
DESCRIPTION:Explore different types of music\, make your own instruments t
 o take home and try out various instruments.
LAST-MODIFIED:20180605T191715Z
URL:https://northbranch.ploud.net/news-events/lib-cal/loud-in-the-library-
 with-music
END:VEVENT
BEGIN:VTIMEZONE
TZID:US/Eastern
X-LIC-LOCATION:US/Eastern
BEGIN:DAYLIGHT
DTSTART:20180311T030000
TZNAME:EDT
TZOFFSETFROM:-0500
TZOFFSETTO:-0400
END:DAYLIGHT
END:VTIMEZONE
END:VCALENDAR
