BEGIN:VCALENDAR
VERSION:2.0
PRODID:-//Plone.org//NONSGML plone.app.event//EN
X-WR-TIMEZONE:US/Eastern
BEGIN:VEVENT
SUMMARY:Make & Take Craft and I Spy event
DTSTART;TZID=US/Eastern:20220319T103000
DTEND;TZID=US/Eastern:20220319T133000
DTSTAMP:20260420T041720Z
UID:23bc6389c22747b3ad5f79e8c77c512d@saas_stack_varnish:6080
CONTACT:Kelli Lovasz\, 810-688-2282\, northbranchlibrary@northbranchlibrar
 y.net
CREATED:20220303T184448Z
DESCRIPTION:Kids Make & Take craft.  I Spy hunt.
LAST-MODIFIED:20220303T184453Z
LOCATION:NBTL
URL:https://northbranch.ploud.net/news-events/lib-cal/make-take-craft-and-
 i-spy-event
END:VEVENT
BEGIN:VTIMEZONE
TZID:US/Eastern
X-LIC-LOCATION:US/Eastern
BEGIN:DAYLIGHT
DTSTART:20220313T030000
TZNAME:EDT
TZOFFSETFROM:-0500
TZOFFSETTO:-0400
END:DAYLIGHT
END:VTIMEZONE
END:VCALENDAR
