BEGIN:VCALENDAR
VERSION:2.0
PRODID:-//Plone.org//NONSGML plone.app.event//EN
X-WR-TIMEZONE:US/Eastern
BEGIN:VEVENT
SUMMARY:Matt Emerick - juggler
DTSTART;TZID=US/Eastern:20180619T110000
DTEND;TZID=US/Eastern:20180619T120000
DTSTAMP:20260420T204753Z
UID:06962edb087f4b1a9322322527c54c51@saas_stack_varnish:6080
ATTENDEE;CN="Children's program";ROLE=REQ-PARTICIPANT:Children's program
CONTACT:Kelli Lovasz\, 8106882282\, northbranchlibrary@northbranchlibrary.
 net
CREATED:20180605T191355Z
DESCRIPTION:Juggling\, skits\, songs and stories that will have you laughi
 ng in your seats.
LAST-MODIFIED:20180605T191359Z
LOCATION:NBTL
URL:https://northbranch.ploud.net/news-events/lib-cal/matt-emerick-juggler
END:VEVENT
BEGIN:VTIMEZONE
TZID:US/Eastern
X-LIC-LOCATION:US/Eastern
BEGIN:DAYLIGHT
DTSTART:20180311T030000
TZNAME:EDT
TZOFFSETFROM:-0500
TZOFFSETTO:-0400
END:DAYLIGHT
END:VTIMEZONE
END:VCALENDAR
