BEGIN:VCALENDAR
VERSION:2.0
PRODID:-//Plone.org//NONSGML plone.app.event//EN
X-WR-TIMEZONE:US/Eastern
BEGIN:VEVENT
SUMMARY:Matt Emerick
DTSTART;TZID=US/Eastern:20160725T103000
DTEND;TZID=US/Eastern:20160725T113000
DTSTAMP:20260420T220819Z
UID:81f6fb79aa5d4186b591459a696f893f@saas_stack_varnish:6080
CONTACT:Kelli Lovasz\, 810-688-2282\, northbranchlibrary@northbranchlibrar
 y.net
CREATED:20160524T154508Z
DESCRIPTION:On your mark! Get set! JAM ( juggling\, acrobatics and Mime). 
  A fun-filled program that promotes fitness\, exercise and Olympic excitem
 ent.
LAST-MODIFIED:20160524T154512Z
LOCATION:NBTL Meeting Room
URL:https://northbranch.ploud.net/news-events/lib-cal/matt-emerick
END:VEVENT
BEGIN:VTIMEZONE
TZID:US/Eastern
X-LIC-LOCATION:US/Eastern
BEGIN:DAYLIGHT
DTSTART:20160313T030000
TZNAME:EDT
TZOFFSETFROM:-0500
TZOFFSETTO:-0400
END:DAYLIGHT
END:VTIMEZONE
END:VCALENDAR
