BEGIN:VCALENDAR
VERSION:2.0
PRODID:-//Plone.org//NONSGML plone.app.event//EN
X-WR-TIMEZONE:US/Eastern
BEGIN:VEVENT
SUMMARY:Meet the Library at TJ's!
DTSTART;TZID=US/Eastern:20250731T130000
DTEND;TZID=US/Eastern:20250731T150000
DTSTAMP:20260419T221510Z
UID:26727a8a5c2b46c6a447c3c01a3e9ba7@saas_stack_varnish:6080
ATTENDEE;CN="All welcome!";ROLE=REQ-PARTICIPANT:All welcome!
CONTACT:810-688-2282\, northbranchlibrary@northbranchlibrary.net
CREATED:20250717T173521Z
DESCRIPTION:Meet the NBTL at TJ's Ice Cream Cabin and enjoy a free small i
 ce cream cone! Free books will be available as well!
LAST-MODIFIED:20250717T173639Z
LOCATION:TJ's Ice Cream cabin
URL:https://northbranch.ploud.net/news-events/lib-cal/meet-the-library-at-
 tjs
END:VEVENT
BEGIN:VTIMEZONE
TZID:US/Eastern
X-LIC-LOCATION:US/Eastern
BEGIN:DAYLIGHT
DTSTART:20250309T030000
TZNAME:EDT
TZOFFSETFROM:-0500
TZOFFSETTO:-0400
END:DAYLIGHT
END:VTIMEZONE
END:VCALENDAR
