BEGIN:VCALENDAR
VERSION:2.0
PRODID:-//Plone.org//NONSGML plone.app.event//EN
X-WR-TIMEZONE:US/Eastern
BEGIN:VEVENT
SUMMARY:Ming Louie - Chinese Cooking and Eating
DTSTART;TZID=US/Eastern:20120320T180000
DTEND;TZID=US/Eastern:20120320T190000
DTSTAMP:20260420T031307Z
UID:97b61ea5267fb0f3fba9492c1f904578@saas_stack_varnish:6080
CONTACT:NBTL\, 810-688-2282\, northbranchlibrary@northbranchlibrary.net
CREATED:20120119T205537Z
LAST-MODIFIED:20120119T205605Z
LOCATION:NBTL Meeting Room
URL:https://northbranch.ploud.net/news-events/lib-cal/ming-louie-chinese-c
 ooking-and-eating.ics
END:VEVENT
BEGIN:VTIMEZONE
TZID:US/Eastern
X-LIC-LOCATION:US/Eastern
BEGIN:DAYLIGHT
DTSTART:20120311T030000
TZNAME:EDT
TZOFFSETFROM:-0500
TZOFFSETTO:-0400
END:DAYLIGHT
END:VTIMEZONE
END:VCALENDAR
