BEGIN:VCALENDAR
VERSION:2.0
PRODID:-//Plone.org//NONSGML plone.app.event//EN
X-WR-TIMEZONE:US/Eastern
BEGIN:VEVENT
SUMMARY:Ming Louie Cooking Class
DTSTART;TZID=US/Eastern:20160114T173000
DTEND;TZID=US/Eastern:20160114T183000
DTSTAMP:20260420T164727Z
UID:270d82f85b7440668f06b40bbe2e9ca7@saas_stack_varnish:6080
ATTENDEE;CN="Teens and adults";ROLE=REQ-PARTICIPANT:Teens and adults
CONTACT:Kelli Lovasz\, 810-688-2282\, northbranchlibrary@northbranchlibrar
 y.net
CREATED:20151130T165407Z
DESCRIPTION:Ming brings his take on Italian cooking with a Chinese twist. 
  He'll be making a Bolognese sauce.  He first learned this classic while t
 aking cooking classes in Florence\, Italy.  He'll also be providing tips a
 nd techniques for both Chinese and Italian Cooking.\nPreregistration is re
 quired for this class.
LAST-MODIFIED:20151130T165412Z
LOCATION:NBTL Meeting Room
URL:https://northbranch.ploud.net/news-events/lib-cal/ming-louie-cooking-c
 lass
END:VEVENT
BEGIN:VTIMEZONE
TZID:US/Eastern
X-LIC-LOCATION:US/Eastern
BEGIN:STANDARD
DTSTART:20151101T010000
TZNAME:EST
TZOFFSETFROM:-0400
TZOFFSETTO:-0500
END:STANDARD
END:VTIMEZONE
END:VCALENDAR
