BEGIN:VCALENDAR
VERSION:2.0
PRODID:-//Plone.org//NONSGML plone.app.event//EN
X-WR-TIMEZONE:US/Eastern
BEGIN:VEVENT
SUMMARY:NBTL Board Meeting
DTSTART;TZID=US/Eastern:20120320T163000
DTEND;TZID=US/Eastern:20120320T170000
DTSTAMP:20260420T031641Z
UID:d440a5275a36995e5303cb48cc751e49@saas_stack_varnish:6080
CREATED:20120320T184127Z
DESCRIPTION:A meeting of the North Branch Township Library Board of Truste
 es.  This meeting is rescheduled from the original date of 3/12/2012
LAST-MODIFIED:20120320T184145Z
LOCATION:NBTL Meeting Room
URL:https://northbranch.ploud.net/news-events/lib-cal/nbtl-board-meeting-1
 2.ics
END:VEVENT
BEGIN:VTIMEZONE
TZID:US/Eastern
X-LIC-LOCATION:US/Eastern
BEGIN:DAYLIGHT
DTSTART:20120311T030000
TZNAME:EDT
TZOFFSETFROM:-0500
TZOFFSETTO:-0400
END:DAYLIGHT
END:VTIMEZONE
END:VCALENDAR
