BEGIN:VCALENDAR
VERSION:2.0
PRODID:-//Plone.org//NONSGML plone.app.event//EN
X-WR-TIMEZONE:US/Eastern
BEGIN:VEVENT
SUMMARY:NBTL Board Meeting
DTSTART;TZID=US/Eastern:20151208T160000
DTEND;TZID=US/Eastern:20151208T170000
DTSTAMP:20260420T170608Z
UID:818bba8ca9584304bbaca017a11f20b3@saas_stack_varnish:6080
ATTENDEE;CN="Board Members and Public";ROLE=REQ-PARTICIPANT:Board Members 
 and Public
CONTACT:Jan Gottschalk\, 810-688-2282\, northbranchlibrary@northbranchlibr
 ary.net
CREATED:20151029T154104Z
DESCRIPTION:Meeting of the North Branch Township Library Board of Trustees
LAST-MODIFIED:20151029T154108Z
LOCATION:NBTL Meeting Room
URL:https://northbranch.ploud.net/news-events/lib-cal/nbtl-board-meeting-2
END:VEVENT
BEGIN:VTIMEZONE
TZID:US/Eastern
X-LIC-LOCATION:US/Eastern
BEGIN:STANDARD
DTSTART:20151101T010000
TZNAME:EST
TZOFFSETFROM:-0400
TZOFFSETTO:-0500
END:STANDARD
END:VTIMEZONE
END:VCALENDAR
