BEGIN:VCALENDAR
VERSION:2.0
PRODID:-//Plone.org//NONSGML plone.app.event//EN
X-WR-TIMEZONE:US/Eastern
BEGIN:VEVENT
SUMMARY:NBTL Board Meeting
DTSTART;TZID=US/Eastern:20210112T160000
DTEND;TZID=US/Eastern:20210112T170000
DTSTAMP:20260420T132657Z
UID:ada92a7b22a549fd94513dab03b638a7@saas_stack_varnish:6080
CONTACT:Kelli Lovasz\, 810-688-2282\, northbranchlibrary@northbranchlibrar
 y.net\, https://zoom.us/j/7227763293?pwd=YmFyaFE4TEUwQmZiZnBTc0RJdjVGUT09
CREATED:20210111T163112Z
DESCRIPTION:Monthly Meeting of the NBTL Board of Trustees.  Please click t
 he link below to join.
LAST-MODIFIED:20210111T163118Z
URL:https://northbranch.ploud.net/news-events/lib-cal/nbtl-board-meeting-3
END:VEVENT
BEGIN:VTIMEZONE
TZID:US/Eastern
X-LIC-LOCATION:US/Eastern
BEGIN:STANDARD
DTSTART:20201101T010000
TZNAME:EST
TZOFFSETFROM:-0400
TZOFFSETTO:-0500
END:STANDARD
END:VTIMEZONE
END:VCALENDAR
