BEGIN:VCALENDAR
VERSION:2.0
PRODID:-//Plone.org//NONSGML plone.app.event//EN
X-WR-TIMEZONE:US/Eastern
BEGIN:VEVENT
SUMMARY:NBTL Board Meeting
DTSTART;TZID=US/Eastern:20240319T160000
DTEND;TZID=US/Eastern:20240319T170000
DTSTAMP:20260419T220243Z
UID:6bc3b09251e244be995439662d9f0253@saas_stack_varnish:6080
CREATED:20240223T171057Z
DESCRIPTION:A meeting of the NBTL Board of Trustees.  Public is welcome an
 d encouraged to attend.
LAST-MODIFIED:20240223T171103Z
URL:https://northbranch.ploud.net/news-events/lib-cal/nbtl-board-meeting-4
END:VEVENT
BEGIN:VTIMEZONE
TZID:US/Eastern
X-LIC-LOCATION:US/Eastern
BEGIN:DAYLIGHT
DTSTART:20240310T030000
TZNAME:EDT
TZOFFSETFROM:-0500
TZOFFSETTO:-0400
END:DAYLIGHT
END:VTIMEZONE
END:VCALENDAR
