BEGIN:VCALENDAR
VERSION:2.0
PRODID:-//Plone.org//NONSGML plone.app.event//EN
X-WR-TIMEZONE:US/Eastern
BEGIN:VEVENT
SUMMARY:NBTL Board of Trustees
DTSTART;TZID=US/Eastern:20160215T160000
DTEND;TZID=US/Eastern:20160215T170000
DTSTAMP:20260420T205008Z
UID:e2f7a1689d2840efb198245473a23eed@saas_stack_varnish:6080
ATTENDEE;CN=Public;ROLE=REQ-PARTICIPANT:Public
CONTACT:Jan Gottschalk\, 810-688-2282\, northbranchlibrary@northbranchlibr
 ary.net
CREATED:20160209T174813Z
DESCRIPTION:A meeting of the North Branch Township Library Board of Truste
 es.  The public is welcome and encouraged to attend.  This meeting was ori
 ginally scheduled for 2/9/16. 
LAST-MODIFIED:20160209T174817Z
LOCATION:NBTL Meeting Room
URL:https://northbranch.ploud.net/news-events/lib-cal/nbtl-board-of-truste
 es-1
END:VEVENT
BEGIN:VTIMEZONE
TZID:US/Eastern
X-LIC-LOCATION:US/Eastern
BEGIN:STANDARD
DTSTART:20151101T010000
TZNAME:EST
TZOFFSETFROM:-0400
TZOFFSETTO:-0500
END:STANDARD
END:VTIMEZONE
END:VCALENDAR
