BEGIN:VCALENDAR
VERSION:2.0
PRODID:-//Plone.org//NONSGML plone.app.event//EN
X-WR-TIMEZONE:US/Eastern
BEGIN:VEVENT
SUMMARY:NBTL Board of Trustees
DTSTART;TZID=US/Eastern:20161011T170000
DTEND;TZID=US/Eastern:20161011T180000
DTSTAMP:20260420T221802Z
UID:efdbee239d9a487eaf7bb6e14ecc0af5@saas_stack_varnish:6080
ATTENDEE;CN=Public;ROLE=REQ-PARTICIPANT:Public
CONTACT:Jan Gottschalk\, 810-688-2282\, northbranchlibrary@northbranchlibr
 ary.net
CREATED:20160324T173559Z
DESCRIPTION:A meeting of the North Branch Township Library Trustees.  The 
 public is welcome and encouraged to attend.
LAST-MODIFIED:20160324T173603Z
LOCATION:NBTL Meeting Room
URL:https://northbranch.ploud.net/news-events/lib-cal/nbtl-board-of-truste
 es-2/2016-10-11
END:VEVENT
BEGIN:VTIMEZONE
TZID:US/Eastern
X-LIC-LOCATION:US/Eastern
BEGIN:DAYLIGHT
DTSTART:20160313T030000
TZNAME:EDT
TZOFFSETFROM:-0500
TZOFFSETTO:-0400
END:DAYLIGHT
END:VTIMEZONE
END:VCALENDAR
