BEGIN:VCALENDAR
VERSION:2.0
PRODID:-//Plone.org//NONSGML plone.app.event//EN
X-WR-TIMEZONE:US/Eastern
BEGIN:VEVENT
SUMMARY:NBTL Board of Trustees
DTSTART;TZID=US/Eastern:20190212T160000
DTEND;TZID=US/Eastern:20190212T170000
DTSTAMP:20260420T111335Z
UID:672e1c2189e74a79b470e5b18ac2425a@saas_stack_varnish:6080
RRULE:FREQ=MONTHLY;UNTIL=20191210T000000;BYDAY=+2TU
CONTACT:Kelli Lovasz\, 8106882282\, northbranchlibrary@northbranchlibrary.
 net
CREATED:20190205T161917Z
DESCRIPTION:A meeting of the NBTL Board of Trustees
LAST-MODIFIED:20190205T161921Z
LOCATION:NBTL Meeting Room
URL:https://northbranch.ploud.net/news-events/lib-cal/nbtl-board-of-truste
 es-3
END:VEVENT
BEGIN:VTIMEZONE
TZID:US/Eastern
X-LIC-LOCATION:US/Eastern
BEGIN:STANDARD
DTSTART:20181104T010000
TZNAME:EST
TZOFFSETFROM:-0400
TZOFFSETTO:-0500
END:STANDARD
END:VTIMEZONE
END:VCALENDAR
