BEGIN:VCALENDAR
VERSION:2.0
PRODID:-//Plone.org//NONSGML plone.app.event//EN
X-WR-TIMEZONE:US/Eastern
BEGIN:VEVENT
SUMMARY:NBTL Board of Trustees
DTSTART;TZID=US/Eastern:20190219T160000
DTEND;TZID=US/Eastern:20190219T170000
DTSTAMP:20260420T142144Z
UID:cdd43e3d07d148f5b247d57d6cf80986@saas_stack_varnish:6080
CREATED:20190213T215359Z
DESCRIPTION:Rescheduled from 2/12/19
LAST-MODIFIED:20190213T215403Z
URL:https://northbranch.ploud.net/news-events/lib-cal/nbtl-board-of-truste
 es-5
END:VEVENT
BEGIN:VTIMEZONE
TZID:US/Eastern
X-LIC-LOCATION:US/Eastern
BEGIN:STANDARD
DTSTART:20181104T010000
TZNAME:EST
TZOFFSETFROM:-0400
TZOFFSETTO:-0500
END:STANDARD
END:VTIMEZONE
END:VCALENDAR
