BEGIN:VCALENDAR
VERSION:2.0
PRODID:-//Plone.org//NONSGML plone.app.event//EN
X-WR-TIMEZONE:US/Eastern
BEGIN:VEVENT
SUMMARY:NBTL Board of Trustees
DTSTART;TZID=US/Eastern:20241029T170000
DTEND;TZID=US/Eastern:20241029T180000
DTSTAMP:20260420T013122Z
UID:c26ce444d8614105a8db3d21983c340d@saas_stack_varnish:6080
ATTENDEE;CN="Public is welcome";ROLE=REQ-PARTICIPANT:Public is welcome
CREATED:20241025T154608Z
DESCRIPTION:The NBTL Board of Trustees will be meeting for a work session.
LAST-MODIFIED:20241025T154612Z
URL:https://northbranch.ploud.net/news-events/lib-cal/nbtl-board-of-truste
 es-7
END:VEVENT
BEGIN:VTIMEZONE
TZID:US/Eastern
X-LIC-LOCATION:US/Eastern
BEGIN:DAYLIGHT
DTSTART:20240310T030000
TZNAME:EDT
TZOFFSETFROM:-0500
TZOFFSETTO:-0400
END:DAYLIGHT
END:VTIMEZONE
END:VCALENDAR
