BEGIN:VCALENDAR
VERSION:2.0
PRODID:-//Plone.org//NONSGML plone.app.event//EN
X-WR-TIMEZONE:US/Eastern
BEGIN:VEVENT
SUMMARY:NBTL Board of Trustees
DTSTART;TZID=US/Eastern:20241119T160000
DTEND;TZID=US/Eastern:20241119T170000
DTSTAMP:20260420T013219Z
UID:62f84911203a4e398ea89b4b7abfa053@saas_stack_varnish:6080
ATTENDEE;CN="Public is welcome and encouraged to attend.";ROLE=REQ-PARTICI
 PANT:Public is welcome and encouraged to attend.
CONTACT:810-688-2282\, northbranchlibrary@northbranchlibrary.net
CREATED:20241025T155458Z
DESCRIPTION:Monthly meeting of the NBTL Board of Trustees.
LAST-MODIFIED:20241025T155503Z
LOCATION:NBTL
URL:https://northbranch.ploud.net/news-events/lib-cal/nbtl-board-of-truste
 es-8
END:VEVENT
BEGIN:VTIMEZONE
TZID:US/Eastern
X-LIC-LOCATION:US/Eastern
BEGIN:STANDARD
DTSTART:20241103T010000
TZNAME:EST
TZOFFSETFROM:-0400
TZOFFSETTO:-0500
END:STANDARD
END:VTIMEZONE
END:VCALENDAR
