BEGIN:VCALENDAR
VERSION:2.0
PRODID:-//Plone.org//NONSGML plone.app.event//EN
X-WR-TIMEZONE:US/Eastern
BEGIN:VEVENT
SUMMARY:NBTL Board of Trustees Meeting
DTSTART;TZID=US/Eastern:20160119T160000
DTEND;TZID=US/Eastern:20160119T170000
DTSTAMP:20260420T170616Z
UID:32bb978116bb4f4badba5627d009a309@saas_stack_varnish:6080
CONTACT:Jan Gottschalk\, 810-688-2282\, northbranchlibrary@northbranchlibr
 ary.net
CREATED:20160113T201308Z
DESCRIPTION:A meeting of the library's Board of Trustees.  Public is welco
 me and encouraged to attend
LAST-MODIFIED:20160113T201313Z
LOCATION:NBTL Meeting Room
URL:https://northbranch.ploud.net/news-events/lib-cal/nbtl-board-of-truste
 es-meeting-1
END:VEVENT
BEGIN:VTIMEZONE
TZID:US/Eastern
X-LIC-LOCATION:US/Eastern
BEGIN:STANDARD
DTSTART:20151101T010000
TZNAME:EST
TZOFFSETFROM:-0400
TZOFFSETTO:-0500
END:STANDARD
END:VTIMEZONE
END:VCALENDAR
