BEGIN:VCALENDAR
VERSION:2.0
PRODID:-//Plone.org//NONSGML plone.app.event//EN
X-WR-TIMEZONE:US/Eastern
BEGIN:VEVENT
SUMMARY:NBTL BOARD MEETING CANCELLED
DTSTART;TZID=US/Eastern:20250916T170000
DTEND;TZID=US/Eastern:20250916T180000
DTSTAMP:20260419T222049Z
UID:337213cfd82e4525849095618ab25652@saas_stack_varnish:6080
ATTENDEE;CN="Open to the public";ROLE=REQ-PARTICIPANT:Open to the public
CONTACT:810-688-2282\, northbranchlibrary@northbranchlibrary.net
CREATED:20250819T183025Z
DESCRIPTION:The North Branch Township Library Board meeting is cancelled t
 his month due to lack of quorum.
LAST-MODIFIED:20250916T151837Z
LOCATION:North Branch Township Library
URL:https://northbranch.ploud.net/news-events/lib-cal/nbtl-board-of-truste
 es-meeting-10
END:VEVENT
BEGIN:VTIMEZONE
TZID:US/Eastern
X-LIC-LOCATION:US/Eastern
BEGIN:DAYLIGHT
DTSTART:20250309T030000
TZNAME:EDT
TZOFFSETFROM:-0500
TZOFFSETTO:-0400
END:DAYLIGHT
END:VTIMEZONE
END:VCALENDAR
