BEGIN:VCALENDAR
VERSION:2.0
PRODID:-//Plone.org//NONSGML plone.app.event//EN
X-WR-TIMEZONE:US/Eastern
BEGIN:VEVENT
SUMMARY:NBTL Board of Trustees Meeting
DTSTART;TZID=US/Eastern:20251021T170000
DTEND;TZID=US/Eastern:20251021T180000
DTSTAMP:20260419T184607Z
UID:056962dedf014b9fb19534ca9d589d4a@saas_stack_varnish:6080
ATTENDEE;CN="Open to the public.";ROLE=REQ-PARTICIPANT:Open to the public.
CONTACT:810-688-2282\, northbranchlibrary@northbranchlibrary.net
CREATED:20250819T183353Z
LAST-MODIFIED:20250819T183400Z
LOCATION:North Branch Township Library
URL:https://northbranch.ploud.net/news-events/lib-cal/nbtl-board-of-truste
 es-meeting-11
END:VEVENT
BEGIN:VTIMEZONE
TZID:US/Eastern
X-LIC-LOCATION:US/Eastern
BEGIN:DAYLIGHT
DTSTART:20250309T030000
TZNAME:EDT
TZOFFSETFROM:-0500
TZOFFSETTO:-0400
END:DAYLIGHT
END:VTIMEZONE
END:VCALENDAR
