BEGIN:VCALENDAR
VERSION:2.0
PRODID:-//Plone.org//NONSGML plone.app.event//EN
X-WR-TIMEZONE:US/Eastern
BEGIN:VEVENT
SUMMARY:NBTL Board of Trustees Meeting
DTSTART;TZID=US/Eastern:20251216T170000
DTEND;TZID=US/Eastern:20251216T180000
DTSTAMP:20260419T224003Z
UID:8805a14f1fc941bdb09922a09a397cd2@saas_stack_varnish:6080
ATTENDEE;CN="Open to the public.";ROLE=REQ-PARTICIPANT:Open to the public.
CONTACT:810-688-2282\, northbranchlibrary@northbranchlibrary.net
CREATED:20250819T183833Z
LAST-MODIFIED:20250819T183840Z
LOCATION:North Branch Township Library
URL:https://northbranch.ploud.net/news-events/lib-cal/nbtl-board-of-truste
 es-meeting-14
END:VEVENT
BEGIN:VTIMEZONE
TZID:US/Eastern
X-LIC-LOCATION:US/Eastern
BEGIN:STANDARD
DTSTART:20251102T010000
TZNAME:EST
TZOFFSETFROM:-0400
TZOFFSETTO:-0500
END:STANDARD
END:VTIMEZONE
END:VCALENDAR
