BEGIN:VCALENDAR
VERSION:2.0
PRODID:-//Plone.org//NONSGML plone.app.event//EN
X-WR-TIMEZONE:US/Eastern
BEGIN:VEVENT
SUMMARY:NBTL Board of Trustees Meeting
DTSTART;TZID=US/Eastern:20161108T160000
DTEND;TZID=US/Eastern:20161108T170000
DTSTAMP:20260420T221656Z
UID:7b76387cb724497bbbd2ac6cbf8922e4@saas_stack_varnish:6080
ATTENDEE;CN="Public Welcome";ROLE=REQ-PARTICIPANT:Public Welcome
CONTACT:Jan Gottschalk\, 810-688-2282\, northbranchlibrary@northbranchlibr
 ary.net
CREATED:20161025T144820Z
DESCRIPTION:A meeting of the North Branch Township Library Board of Truste
 es.  Public is welcome and encouraged to attend.
LAST-MODIFIED:20161025T144825Z
LOCATION:NBTL Meeting Room
URL:https://northbranch.ploud.net/news-events/lib-cal/nbtl-board-of-truste
 es-meeting-3
END:VEVENT
BEGIN:VTIMEZONE
TZID:US/Eastern
X-LIC-LOCATION:US/Eastern
BEGIN:STANDARD
DTSTART:20161106T010000
TZNAME:EST
TZOFFSETFROM:-0400
TZOFFSETTO:-0500
END:STANDARD
END:VTIMEZONE
END:VCALENDAR
