BEGIN:VCALENDAR
VERSION:2.0
PRODID:-//Plone.org//NONSGML plone.app.event//EN
X-WR-TIMEZONE:US/Eastern
BEGIN:VEVENT
SUMMARY:NBTL Board of Trustees Meeting - Rescheduled
DTSTART;TZID=US/Eastern:20161213T160000
DTEND;TZID=US/Eastern:20161213T170000
DTSTAMP:20260420T224055Z
UID:36e04ab766d648df9695a5cbe89384d1@saas_stack_varnish:6080
ATTENDEE;CN=Public;ROLE=REQ-PARTICIPANT:Public
CONTACT:Jan Gottschalk\, 810-688-2282\, northbranchlibrary@northbranchlibr
 ary.net
CREATED:20161025T150448Z
DESCRIPTION:The meeting of the North Branch Township Library Board of Trus
 tees will be held on December 10th at 1:00pm.
LAST-MODIFIED:20161116T192515Z
LOCATION:NBTL Meeting Room
URL:https://northbranch.ploud.net/news-events/lib-cal/nbtl-board-of-truste
 es-meeting-4
END:VEVENT
BEGIN:VTIMEZONE
TZID:US/Eastern
X-LIC-LOCATION:US/Eastern
BEGIN:STANDARD
DTSTART:20161106T010000
TZNAME:EST
TZOFFSETFROM:-0400
TZOFFSETTO:-0500
END:STANDARD
END:VTIMEZONE
END:VCALENDAR
